BEGIN:VCALENDAR
VERSION:2.0
PRODID:-//ChamberMaster//Event Calendar 2.0//EN
METHOD:PUBLISH
X-PUBLISHED-TTL:P3D
REFRESH-INTERVAL:P3D
CALSCALE:GREGORIAN
BEGIN:VEVENT
DTSTART:20220304T140000Z
DTEND:20220304T150000Z
X-MICROSOFT-CDO-ALLDAYEVENT:FALSE
SUMMARY:MACCE Speaker Series 03/04/2022
DESCRIPTION:Join us for our next MACCE Speaker Series meeting on March 4th.\n\n\n\nRyan Foley\, Partner at Cunningham and Associates will present on the opportunities of the Employee Retention Tax Credit (ERTC) and Workforce Training Grants to chambers.
X-ALT-DESC;FMTTYPE=text/html:<span style="font-size:14px\;">Join us for our next MACCE Speaker Series meeting on March 4th.<br />\n<br />\nRyan Foley\, Partner at Cunningham and Associates will present on the opportunities of the Employee Retention Tax Credit (ERTC) and Workforce Training Grants to chambers.</span>
LOCATION:The meeting will be held via Zoom. All registrants will receive the link prior to the meeting.
UID:e.2272.1164
SEQUENCE:3
DTSTAMP:20260420T112803Z
URL:http://business.macce.org/events/details/macce-speaker-series-03-04-2022-1164
END:VEVENT

END:VCALENDAR
