BEGIN:VCALENDAR
VERSION:2.0
PRODID:-//ChamberMaster//Event Calendar 2.0//EN
METHOD:PUBLISH
X-PUBLISHED-TTL:P3D
REFRESH-INTERVAL:P3D
CALSCALE:GREGORIAN
BEGIN:VEVENT
DTSTART:20200501T123000Z
DTEND:20200501T140000Z
X-MICROSOFT-CDO-ALLDAYEVENT:FALSE
SUMMARY:MACCE Speaker Series 05/01/2020
DESCRIPTION:Please join us for this month's MACCE Speaker Series as we roll out the much anticipated MACCE Marketing Campaign that we have been working with DIF Design to create. Peter Ellis from DIF Design will be there to walk us through the campaign and answer any questions that you have!
X-ALT-DESC;FMTTYPE=text/html:<div background-color:="" century="" font-size:="" style="color: rgb(96\, 109\, 120)\; font-family: " white-space:=""><span style="color:black\;"><span style="font-size:12.0pt\;">Please join us for this month&#39\;s MACCE Speaker Series as we roll out the much anticipated MACCE Marketing Campaign that we have been working with <a href="https://difdesign.com/" title="https://difdesign.com/">DIF Design</a> to create. Peter Ellis from DIF Design will be there to walk us through the campaign and answer any questions that you have!&nbsp\;</span></span><br />\n&nbsp\;<br />\n&nbsp\;</div>\n
LOCATION:ZOOM Video A link will be sent to registrants prior to the call.
UID:e.2272.1109
SEQUENCE:3
DTSTAMP:20260422T015441Z
URL:http://business.macce.org/events/details/macce-speaker-series-05-01-2020-1109
END:VEVENT

END:VCALENDAR
