BEGIN:VCALENDAR
VERSION:2.0
PRODID:-//ChamberMaster//Event Calendar 2.0//EN
METHOD:PUBLISH
X-PUBLISHED-TTL:P3D
REFRESH-INTERVAL:P3D
CALSCALE:GREGORIAN
BEGIN:VEVENT
DTSTART:20210507T130000Z
DTEND:20210507T140000Z
X-MICROSOFT-CDO-ALLDAYEVENT:FALSE
SUMMARY:MACCE Speaker Series 05/07/2021
DESCRIPTION:Please join us for our next MACCE Speaker Series Event\n\nBest Practices for Processing Certificates of Origin\n\n\n\nChambers of Commerce offer a critical service to the exporting community in stamping Certificates of Origin (COs).  COs are required by many countries for the certification of the country of manufacture and are used by Customs officials to determine the status of quotas and the rate of duties on goods.  Many chambers\, however\, may not fully understand their role in providing this service.  There are many benefits to the chamber\, but there are also potential liabilities. \n\n\n\nChambers\, therefore\, need to carefully develop their operating procedures for authorizing and stamping COs while implementing due diligence measures to mitigate risks.  Please join us to learn about Certificates of Origin -- what they are\, why they are needed\, and our role as Chambers of Commerce in facilitating these documents for exporters.  Our speakers will discuss the process of determining country of origin\, the benefits and disadvantages for chambers\, and best practices for establishing operations to provide this valuable service to members while managing risk.\nSpeakers:\n\nPaula L. Murphy\, Director\n\nKathleen T. Kinahan-Newell\n\nInternational Trade Compliance Manager\n\nMassachusetts Export Center\, MSBDC Network
X-ALT-DESC;FMTTYPE=text/html:<div background-color:="" century="" font-size:="" style="color: rgb(96\, 109\, 120)\; font-family: " white-space:=""><span style="color:black\;"><span style="font-size:12.0pt\;">Please join us for our next MACCE Speaker Series Event<br />\nBest Practices for Processing Certificates of Origin</span></span><br />\n<br />\n<span style="font-size:14px\;">Chambers of Commerce offer a critical service to the exporting community in stamping Certificates of Origin (COs).&nbsp\; COs are required by many countries for the certification of the country of manufacture and are used by Customs officials to determine the status of quotas and the rate of duties on goods.&nbsp\; Many chambers\, however\, may not fully understand their role in providing this service.&nbsp\; There are many benefits to the chamber\, but there are also potential liabilities.&nbsp\;<br />\n<br />\nChambers\, therefore\, need to carefully develop their operating procedures for authorizing and stamping COs while implementing due diligence measures to mitigate risks.&nbsp\; Please join us to learn about Certificates of Origin -- what they are\, why they are needed\, and our role as Chambers of Commerce in facilitating these documents for exporters.&nbsp\; Our speakers will discuss the process of determining country of origin\, the benefits and disadvantages for chambers\, and best practices for establishing operations to provide this valuable service to members while managing risk.</span>\n<div style="color: rgb(36\, 115\, 175)\; font-family: &quot\;Century Gothic&quot\;\, Calibri\, Helvetica\, Arial\, sans-serif\; font-size: 16px\; white-space: pre-wrap\; background-color: rgb(255\, 255\, 255)\; text-align: center\;"><span style="font-weight: bold\;">Speakers:</span></div>\n\n<div style="color: rgb(36\, 115\, 175)\; font-family: &quot\;Century Gothic&quot\;\, Calibri\, Helvetica\, Arial\, sans-serif\; font-size: 16px\; white-space: pre-wrap\; background-color: rgb(255\, 255\, 255)\; text-align: center\;"><span style="font-weight: bold\;">Paula L. Murphy\, Director</span></div>\n\n<div style="color: rgb(36\, 115\, 175)\; font-family: &quot\;Century Gothic&quot\;\, Calibri\, Helvetica\, Arial\, sans-serif\; font-size: 16px\; white-space: pre-wrap\; background-color: rgb(255\, 255\, 255)\; text-align: center\;"><span style="font-weight: bold\;">Kathleen T. Kinahan-Newell</span></div>\n\n<div style="color: rgb(36\, 115\, 175)\; font-family: &quot\;Century Gothic&quot\;\, Calibri\, Helvetica\, Arial\, sans-serif\; font-size: 16px\; white-space: pre-wrap\; background-color: rgb(255\, 255\, 255)\; text-align: center\;"><span style="font-weight: bold\;">International Trade Compliance Manager</span></div>\n\n<div style="color: rgb(36\, 115\, 175)\; font-family: &quot\;Century Gothic&quot\;\, Calibri\, Helvetica\, Arial\, sans-serif\; font-size: 16px\; white-space: pre-wrap\; background-color: rgb(255\, 255\, 255)\; text-align: center\;"><span style="font-weight: bold\;">Massachusetts Export Center\, MSBDC Network</span></div>\n<br />\n<br />\n<span style="font-size:14px\;"><span style="font-family:arial\;">&nbsp\;</span></span></div>\n
LOCATION:ZOOM Video A link will be sent to registrants prior to the call.
UID:e.2272.1145
SEQUENCE:3
DTSTAMP:20260421T052205Z
URL:http://business.macce.org/events/details/macce-speaker-series-05-07-2021-1145
END:VEVENT

END:VCALENDAR
