BEGIN:VCALENDAR
VERSION:2.0
PRODID:-//ChamberMaster//Event Calendar 2.0//EN
METHOD:PUBLISH
X-PUBLISHED-TTL:P3D
REFRESH-INTERVAL:P3D
CALSCALE:GREGORIAN
BEGIN:VEVENT
DTSTART:20220603T123000Z
DTEND:20220603T140000Z
X-MICROSOFT-CDO-ALLDAYEVENT:FALSE
SUMMARY:MACCE Speaker Series 06/03/2022
DESCRIPTION:This November\, Massachusetts voters will vote on a proposed Amendment to the State Constitution that would drastically change the structure of income taxes in the Commonwealth. If passed\, it would be one of the state's highest tax increases in history and immediately impose an 80% tax increase on tens of thousands of small business owners\, large employers\, and retirees.\n\n \n\nJoin us at our next Speaker's Series event to hear from The Coalition for a Strong MA Economy about their efforts to defeat this ballot initiative\, commonly known as the "millionaire's tax".
X-ALT-DESC;FMTTYPE=text/html:<div style="color: rgb(36\, 115\, 175)\; font-family: &quot\;Century Gothic&quot\;\, Calibri\, Helvetica\, Arial\, sans-serif\; font-size: 16px\; white-space: pre-wrap\; background-color: rgb(255\, 255\, 255)\;">This November\, Massachusetts voters will vote on a proposed Amendment to the State Constitution that would drastically change the structure of income taxes in the Commonwealth. If passed\, it would be one of the state&rsquo\;s highest tax increases in history and immediately impose an 80% tax increase on tens of thousands of small business owners\, large employers\, and retirees.</div>\n\n<div style="color: rgb(36\, 115\, 175)\; font-family: &quot\;Century Gothic&quot\;\, Calibri\, Helvetica\, Arial\, sans-serif\; font-size: 16px\; white-space: pre-wrap\; background-color: rgb(255\, 255\, 255)\;">&nbsp\;</div>\n\n<div style="color: rgb(36\, 115\, 175)\; font-family: &quot\;Century Gothic&quot\;\, Calibri\, Helvetica\, Arial\, sans-serif\; font-size: 16px\; white-space: pre-wrap\; background-color: rgb(255\, 255\, 255)\;">Join us at our next Speaker&#39\;s Series event to hear from <span style="font-weight: bold\;">The Coalition for a Strong MA Economy</span> about their efforts to defeat this ballot initiative\, commonly known as the &quot\;millionaire&#39\;s tax&quot\;.</div>\n
LOCATION:
UID:e.2272.1168
SEQUENCE:3
DTSTAMP:20260420T061433Z
URL:http://business.macce.org/events/details/macce-speaker-series-06-03-2022-1168
END:VEVENT

END:VCALENDAR
