BEGIN:VCALENDAR
VERSION:2.0
PRODID:-//ChamberMaster//Event Calendar 2.0//EN
METHOD:PUBLISH
X-PUBLISHED-TTL:P3D
REFRESH-INTERVAL:P3D
CALSCALE:GREGORIAN
BEGIN:VEVENT
DTSTART:20210604T130000Z
DTEND:20210604T140000Z
X-MICROSOFT-CDO-ALLDAYEVENT:FALSE
SUMMARY:MACCE Speaker Series 06/04/2021
DESCRIPTION:Please join us for our next MACCE Speaker Series Event featuring GrowthZone ChamberMaster.\n\n "Best Practices for Database Clean-up and to Ensure Your Emails Get Through"\n\nLearn tips and tricks to for cleaning your database and keeping your emails out of the spam folder both of which will help you increase productivity and engagement with your members.
X-ALT-DESC;FMTTYPE=text/html:<div background-color:="" century="" font-size:="" style="color: rgb(96\, 109\, 120)\; font-family: " white-space:=""><span style="color:black\;"><span style="font-size:12.0pt\;">Please join us for our next MACCE Speaker Series Event featuring GrowthZone ChamberMaster.</span></span><br />\n<span style="font-size:14px\;"><span style="font-family:arial\;">&nbsp\;</span></span><strong>&ldquo\;Best Practices for Database Clean-up and to Ensure Your Emails Get Through&rdquo\;</strong><br />\n<span style="background:white\;"><span style="color:#222222\;"><span style="font-family:arial\,sans-serif\;"><span style="font-size:10.5pt\;">Learn tips and tricks to for cleaning your database and keeping your emails out of the spam folder both of which will help you increase productivity and engagement with your members.</span></span></span></span></div>\n
LOCATION:ZOOM Video A link will be sent to registrants prior to the call.
UID:e.2272.1150
SEQUENCE:3
DTSTAMP:20260421T034100Z
URL:http://business.macce.org/events/details/macce-speaker-series-06-04-2021-1150
END:VEVENT

END:VCALENDAR
