BEGIN:VCALENDAR
VERSION:2.0
PRODID:-//ChamberMaster//Event Calendar 2.0//EN
METHOD:PUBLISH
X-PUBLISHED-TTL:P3D
REFRESH-INTERVAL:P3D
CALSCALE:GREGORIAN
BEGIN:VEVENT
DTSTART:20200624T153000Z
DTEND:20200624T163000Z
X-MICROSOFT-CDO-ALLDAYEVENT:FALSE
SUMMARY:MACCE Talks: Mass. Coalition for Sustainable Energy
DESCRIPTION:The Massachusetts Coalition for Sustainable Energy supports a responsible transition to a renewable energy future that ensures reliability and affordability\, strengthens our economy\, and enhances Massachusetts' position as a leader on climate change.\n\n\n\nSeveral Chambers and major employer organizations in the state are already members of the Coalition.  Join us to learn more about their mission and how you can be part of the Commonwealth's sustainable future.\n\n\n\nSpeakers:\n\nBill Ryan and C.J. Chapman\, MCSE
X-ALT-DESC;FMTTYPE=text/html:<span style="font-family:arial\;"><span style="font-size:14px\;">The Massachusetts Coalition for Sustainable Energy&nbsp\;<span style="color: rgb(53\, 60\, 77)\; letter-spacing: 0.64px\; background-color: rgb(255\, 255\, 255)\;">supports a responsible transition to a renewable energy future that ensures reliability and affordability\, strengthens our economy\, and enhances Massachusetts&rsquo\; position as a leader on climate change.</span><br />\n<br />\nSeveral Chambers and major employer organizations in the state are already members of the Coalition.&nbsp\; Join us to learn more about their mission and how you can be part of the Commonwealth&#39\;s sustainable future.<br />\n<br />\nSpeakers:<br />\nBill Ryan and C.J. Chapman\, MCSE&nbsp\;</span></span>
LOCATION:Register for zoom link
UID:e.2272.1119
SEQUENCE:3
DTSTAMP:20260422T001801Z
URL:http://business.macce.org/events/details/macce-talks-mass-coalition-for-sustainable-energy-1119
END:VEVENT

END:VCALENDAR
