BEGIN:VCALENDAR
VERSION:2.0
PRODID:-//ChamberMaster//Event Calendar 2.0//EN
METHOD:PUBLISH
X-PUBLISHED-TTL:P3D
REFRESH-INTERVAL:P3D
CALSCALE:GREGORIAN
BEGIN:VEVENT
DTSTART:20200616T163000Z
DTEND:20200616T173000Z
X-MICROSOFT-CDO-ALLDAYEVENT:FALSE
SUMMARY:MACCE Talks: Projecting for the Future and Managing Costs
DESCRIPTION:Join Rick Kidder\, Co-CEO of the One South Coast Chamber as he leads a discussion on Projecting for the Future of Your Chamber including Managing your Costs. \n\n\n\nThis is the first "MACCE Talks"\, a new series of topical Zooms for MACCE members to discuss specific topics important to Chambers during this time of uncertainty. We hope you can join us!
X-ALT-DESC;FMTTYPE=text/html:Join Rick Kidder\, Co-CEO of the One South Coast Chamber as he leads a discussion on Projecting for the Future of Your Chamber including Managing your Costs.&nbsp\;<br />\n<br />\nThis is the first <strong>&quot\;MACCE Talks&quot\;</strong>\, a new series of topical Zooms for MACCE members to discuss specific topics important to Chambers during this time of uncertainty. We hope you can join us!
LOCATION:Register for zoom link
UID:e.2272.1118
SEQUENCE:3
DTSTAMP:20260422T001801Z
URL:http://business.macce.org/events/details/macce-talks-projecting-for-the-future-and-managing-costs-1118
END:VEVENT

END:VCALENDAR
