BEGIN:VCALENDAR
VERSION:2.0
PRODID:-//ChamberMaster//Event Calendar 2.0//EN
METHOD:PUBLISH
X-PUBLISHED-TTL:P3D
REFRESH-INTERVAL:P3D
CALSCALE:GREGORIAN
BEGIN:VEVENT
DTSTART:20170306T160000Z
DTEND:20170306T200000Z
X-MICROSOFT-CDO-ALLDAYEVENT:FALSE
SUMMARY:MAMD Quarterly Meeting - 03/06/2017
DESCRIPTION:MAMD Quarterly Meeting AND Bonus ChamberMaster Session\n\n\n\nMAMD Meeting\n\nMonday\, March 6\, 2016\n\nMAMD 11am   2pm\n\nChamberMaster 2pm - 3pm\n\nat Blackstone Valley Chamber of Commerce\n\n \n\n \n\n \n\nAgenda - \n\n \n\n	MEMBERSHIP DUES STRUCTURES\n	\n		Members with more than one business   how do you handle? \n	\n	\n	NON-DUES REVENUE SOURCES\n	\n		What has your chamber done and estimated revenues?  Was it worth the energy?\n	\n	\n	MEMBER REFERRAL PROGRAMS\n	\n		On average   how many prospective member referrals do you get from other members\n		What do you do to recognize the referring member\n		Do you market this (have a flyer?) please bring to share\n	\n	\n	MEMBERSHIP ORIENTATIONS\n	\n		Do you have one?  How often?  Guest speakers?\n		BONUS   please bring a copy \n	\n	\n	SOCIAL MEDIA\n	\n		What sites are you using\n		Who in your chamber has access\n		How are you using them - Do you post just about your chamber   or include member information (and are there rules?)\n	\n	\n	BIG Idea for next meeting\n\n \n\n \n\nPast discussions:\n\nJune 2016   Engaging members AND millenials\n\nSeptember 2016   Sharing ideas on $$ making programs/events\, roles for volunteers\, womens series discussion\, and partnering with other chambers\n\nDecember 2016   Drop rate after "year one"\, strategic plans\, sponsorships\, membership sales
X-ALT-DESC;FMTTYPE=text/html:<span style="font-size:16px\;"><strong>MAMD Quarterly Meeting AND Bonus ChamberMaster Session</strong></span><br />\n<br />\n<strong>MAMD Meeting</strong><br />\n<strong>Monday\, March 6\, 2016</strong><br />\nMAMD 11am &ndash\; 2pm<br />\nChamberMaster 2pm - 3pm<br />\nat Blackstone Valley&nbsp\;Chamber of Commerce<br />\n&nbsp\;<br />\n&nbsp\;<br />\n&nbsp\;<br />\n<span style="color:#000000\;"><strong><span style="font-size:13.0pt\;">Agenda - </span></strong></span><br />\n&nbsp\;\n<ul>\n	<li style="margin-top:0in\;margin-right:0in\;margin-bottom:0in\;margin-bottom:.0001pt\;">MEMBERSHIP DUES STRUCTURES\n	<ul style="list-style-type:circle\;">\n		<li style="margin-top:0in\;margin-right:0in\;margin-bottom:0in\;margin-bottom:.0001pt\;">Members with more than one business &ndash\; how do you handle?&nbsp\;</li>\n	</ul>\n	</li>\n	<li style="margin-top:0in\;margin-right:0in\;margin-bottom:0in\;margin-bottom:.0001pt\;">NON-DUES REVENUE SOURCES\n	<ul style="list-style-type:circle\;">\n		<li style="margin-top:0in\;margin-right:0in\;margin-bottom:0in\;margin-bottom:.0001pt\;">What has your chamber done and estimated revenues?&nbsp\; Was it worth the energy?</li>\n	</ul>\n	</li>\n	<li style="margin-top:0in\;margin-right:0in\;margin-bottom:0in\;margin-bottom:.0001pt\;">MEMBER REFERRAL PROGRAMS\n	<ul style="list-style-type:circle\;">\n		<li style="margin-top:0in\;margin-right:0in\;margin-bottom:0in\;margin-bottom:.0001pt\;">On average &ndash\; how many prospective member referrals do you get from other members</li>\n		<li style="margin-top:0in\;margin-right:0in\;margin-bottom:0in\;margin-bottom:.0001pt\;">What do you do to recognize the referring member</li>\n		<li style="margin-top:0in\;margin-right:0in\;margin-bottom:0in\;margin-bottom:.0001pt\;">Do you market this (have a flyer?) please bring to share</li>\n	</ul>\n	</li>\n	<li style="margin-top:0in\;margin-right:0in\;margin-bottom:0in\;margin-bottom:.0001pt\;">MEMBERSHIP ORIENTATIONS\n	<ul style="list-style-type:circle\;">\n		<li style="margin-top:0in\;margin-right:0in\;margin-bottom:0in\;margin-bottom:.0001pt\;">Do you have one?&nbsp\; How often?&nbsp\; Guest speakers?</li>\n		<li style="margin-top:0in\;margin-right:0in\;margin-bottom:0in\;margin-bottom:.0001pt\;"><strong>BONUS &ndash\; please bring a copy </strong></li>\n	</ul>\n	</li>\n	<li style="margin-top:0in\;margin-right:0in\;margin-bottom:0in\;margin-bottom:.0001pt\;">SOCIAL MEDIA\n	<ul style="list-style-type:circle\;">\n		<li style="margin-top:0in\;margin-right:0in\;margin-bottom:0in\;margin-bottom:.0001pt\;">What sites are you using</li>\n		<li style="margin-top:0in\;margin-right:0in\;margin-bottom:0in\;margin-bottom:.0001pt\;">Who in your chamber has access</li>\n		<li style="margin-top:0in\;margin-right:0in\;margin-bottom:0in\;margin-bottom:.0001pt\;">How are you using them - Do you post just about your chamber &ndash\; or include member information (and are there rules?)</li>\n	</ul>\n	</li>\n	<li style="margin-top:0in\;margin-right:0in\;margin-bottom:0in\;margin-bottom:.0001pt\;">BIG Idea for next meeting</li>\n</ul>\n&nbsp\;<br />\n&nbsp\;<br />\n<strong><span style="font-size:13.0pt\;">Past discussions:</span></strong><br />\n<strong>June 2016</strong> &ndash\; Engaging members AND millenials<br />\n<strong>September 2016</strong> &ndash\; Sharing ideas on $$ making programs/events\, roles for volunteers\, womens series discussion\, and partnering with other chambers<br />\n<strong>December 2016</strong> &ndash\; Drop rate after &ldquo\;year one&rdquo\;\, strategic plans\, sponsorships\, membership sales<br />\n&nbsp\;
LOCATION:Blackstone Valley Chamber of Commerce 670 Linwood Ave #5 Whitinsville\, MA 01588
UID:e.2272.40
SEQUENCE:3
DTSTAMP:20260424T184708Z
URL:http://business.macce.org/events/details/mamd-quarterly-meeting-03-06-2017-40
END:VEVENT

END:VCALENDAR
