BEGIN:VCALENDAR
VERSION:2.0
PRODID:-//ChamberMaster//Event Calendar 2.0//EN
METHOD:PUBLISH
X-PUBLISHED-TTL:P3D
REFRESH-INTERVAL:P3D
CALSCALE:GREGORIAN
BEGIN:VEVENT
DTSTART:20160307T160000Z
DTEND:20160307T190000Z
X-MICROSOFT-CDO-ALLDAYEVENT:FALSE
SUMMARY:MAMD Quarterly Meeting - 03/07/2015
DESCRIPTION:Topics of Discussion will include:\n\n\n	Advocacy initiatives and topics by geography\, industry\, business size\, regulating agency\, etc.\n	30 Ways in 30 minutes to grow membership\n	Marketing/promoting the Chamber to the community\n	Encouraging/discouraging volunteer leaders
X-ALT-DESC;FMTTYPE=text/html:<div _mce_style="color: #ffffff\;" style="color: rgb(255\, 255\, 255)\; font-family: 'Palatino Linotype'\, 'Book Antiqua'\, Palatino\, 'Times New Roman'\, Times\, serif\; font-size: 14.6667px\; line-height: normal\;"><span style="color:#000000\;"><span style="font-size:12px\;"><span style="font-family:arial\;">Topics of Discussion will include:</span></span></span></div>\n\n<ul>\n	<li _mce_style="color: #d4eaf9\;" style="font-family: 'Palatino Linotype'\, 'Book Antiqua'\, Palatino\, 'Times New Roman'\, Times\, serif\; font-size: 14.6667px\; line-height: normal\; color: rgb(212\, 234\, 249)\;"><span style="color:#000000\;"><span style="font-size:12px\;"><span style="font-family:arial\;">Advocacy initiatives and topics by geography\, industry\, business size\, regulating agency\, etc.</span></span></span></li>\n	<li _mce_style="color: #d4eaf9\;" style="font-family: 'Palatino Linotype'\, 'Book Antiqua'\, Palatino\, 'Times New Roman'\, Times\, serif\; font-size: 14.6667px\; line-height: normal\; color: rgb(212\, 234\, 249)\;"><span style="color:#000000\;"><span style="font-size:12px\;"><span style="font-family:arial\;">30 Ways in 30 minutes to grow membership</span></span></span></li>\n	<li _mce_style="color: #d4eaf9\;" style="font-family: 'Palatino Linotype'\, 'Book Antiqua'\, Palatino\, 'Times New Roman'\, Times\, serif\; font-size: 14.6667px\; line-height: normal\; color: rgb(212\, 234\, 249)\;"><span style="color:#000000\;"><span style="font-size:12px\;"><span style="font-family:arial\;">Marketing/promoting the Chamber to the community</span></span></span></li>\n	<li _mce_style="color: #d4eaf9\;" style="font-family: 'Palatino Linotype'\, 'Book Antiqua'\, Palatino\, 'Times New Roman'\, Times\, serif\; font-size: 14.6667px\; line-height: normal\; color: rgb(212\, 234\, 249)\;"><span style="color:#000000\;"><span style="font-size:12px\;"><span style="font-family:arial\;">Encouraging/discouraging volunteer leaders</span></span></span></li>\n</ul>\n
LOCATION:Marlborough Regional Chamber of Commerce 11 Florence Street\, Malborough\, MA 01752
UID:e.2272.27
SEQUENCE:3
DTSTAMP:20260425T133955Z
URL:http://business.macce.org/events/details/mamd-quarterly-meeting-03-07-2015-03-07-2016-27
END:VEVENT

END:VCALENDAR
