BEGIN:VCALENDAR
VERSION:2.0
PRODID:-//ChamberMaster//Event Calendar 2.0//EN
METHOD:PUBLISH
X-PUBLISHED-TTL:P3D
REFRESH-INTERVAL:P3D
CALSCALE:GREGORIAN
BEGIN:VEVENT
DTSTART:20170605T150000Z
DTEND:20170605T190000Z
X-MICROSOFT-CDO-ALLDAYEVENT:FALSE
SUMMARY:MAMD Quarterly Meeting - 06/05/2017
DESCRIPTION:MAMD Quarterly Meeting \n\n    (AND Bonus ChamberMaster Session)\n\n\n\nMAMD Meeting\n\nMonday\, June 5\, 2017\n\nMAMD 11am   2pm\n\nChamberMaster 2pm - 3pm\n\nat Great Wolf Lodge New England\n\n \n\n \n\n \n\nAgenda - \n\n	Small Business Saturday\n	Dues increases\n	Membership Welcome/Orientation\n	Membership Retention Plans\n\nPLEASE EMAIL A COPY TO MELISSA@NVCOC.COM OF YOUR CHAMBER'S INFORMATION - OR BRING COPIES TO SHARE.  \n\n\n\nEmail requests to add to the agenda to melissa@nvcoc.com
X-ALT-DESC;FMTTYPE=text/html:<span style="font-size:16px\;"><strong>MAMD Quarterly Meeting </strong></span><br />\n&nbsp\;&nbsp\;&nbsp\;<span style="font-size:12px\;"><em>&nbsp\;(<strong>AND Bonus ChamberMaster Session)</strong></em></span><br />\n<br />\n<strong>MAMD Meeting</strong><br />\n<strong>Monday\, June 5\, 2017</strong><br />\nMAMD 11am &ndash\; 2pm<br />\nChamberMaster 2pm - 3pm<br />\nat Great Wolf Lodge New England<br />\n&nbsp\;<br />\n&nbsp\;<br />\n&nbsp\;<br />\n<span style="color:#000000\;"><strong><span style="font-size:13.0pt\;">Agenda -&nbsp\;</span></strong></span>\n<ul>\n	<li><span style="color:#000000\;"><strong><span style="font-size:13.0pt\;">Small Business Saturday</span></strong></span></li>\n	<li><span style="color:#000000\;"><strong><span style="font-size:13.0pt\;">Dues increases</span></strong></span></li>\n	<li><span style="color:#000000\;"><strong><span style="font-size:13.0pt\;">Membership Welcome/Orientation</span></strong></span></li>\n	<li><span style="color:#000000\;"><strong><span style="font-size:13.0pt\;">Membership Retention Plans</span></strong></span></li>\n</ul>\n<span style="font-size:14px\;"><em><span style="color:#0000FF\;"><strong>PLEASE EMAIL A COPY TO MELISSA@NVCOC.COM OF YOUR CHAMBER&#39\;S INFORMATION - OR BRING COPIES TO SHARE. &nbsp\;<br />\n<br />\nEmail requests to add to the agenda to melissa@nvcoc.com</strong></span></em></span><br />\n&nbsp\;\n<div style="margin-top:0in\;margin-right:0in\;margin-bottom:0in\;margin-bottom:.0001pt\;">&nbsp\;</div>\n
LOCATION:Great Wolf Lodge New Englad 150 Great Wolf Drive Fitchburg MA 01420
UID:e.2272.47
SEQUENCE:3
DTSTAMP:20260424T140808Z
URL:http://business.macce.org/events/details/mamd-quarterly-meeting-06-05-2017-47
END:VEVENT

END:VCALENDAR
