BEGIN:VCALENDAR
VERSION:2.0
PRODID:-//ChamberMaster//Event Calendar 2.0//EN
METHOD:PUBLISH
X-PUBLISHED-TTL:P3D
REFRESH-INTERVAL:P3D
CALSCALE:GREGORIAN
BEGIN:VEVENT
DTSTART;VALUE=DATE:20150608
DTEND;VALUE=DATE:20150609
TRANSP:TRANSPARENT
X-MICROSOFT-CDO-ALLDAYEVENT:TRUE
SUMMARY:MAMD Quarterly Meeting - 06/08/2015
DESCRIPTION:MAMD Quarterly Meeting\n\n\n\nMonday\, June 8\, 2015\n\nTime - 11am - 2pm\n\nat Mezza Luna Restaurant\n\n\n\n\n\nAgenda: \n\n \n\n1.            Chamber App   does your chamber have one?  Do you charge?  How many of your members use it?  \n\n2.            Ribbon cuttings   what's your most unique ribbon cutting?  How many people are you getting to your ribbon cuttings?  How do you get more folks to support and participate?\n\n3.           Trade: Does your membership trade for membership dues? How does this work? Tracking?
X-ALT-DESC;FMTTYPE=text/html:MAMD Quarterly Meeting<br />\n<br />\nMonday\, June 8\, 2015<br />\nTime - 11am - 2pm<br />\nat Mezza&nbsp\;Luna Restaurant<br />\n<br />\n<br />\n<span style="color:#1F497D\;">Agenda: </span><br />\n&nbsp\;<br />\n<span style="color:#1F497D\;">1.&nbsp\;&nbsp\;&nbsp\;&nbsp\;&nbsp\;&nbsp\;&nbsp\;&nbsp\;&nbsp\;&nbsp\;&nbsp\; Chamber App &ndash\; does your chamber have one?&nbsp\; Do you charge?&nbsp\; How many of your members use it?&nbsp\; </span><br />\n<span style="color:#1F497D\;">2.&nbsp\;&nbsp\;&nbsp\;&nbsp\;&nbsp\;&nbsp\;&nbsp\;&nbsp\;&nbsp\;&nbsp\;&nbsp\; Ribbon cuttings &ndash\; what&rsquo\;s your most unique ribbon cutting?&nbsp\; How many people are you getting to your ribbon cuttings? &nbsp\;How do you get more folks to support and participate?</span><br />\n<span style="color:#1F497D\;">3.&nbsp\;&nbsp\;&nbsp\;&nbsp\;&nbsp\;&nbsp\;&nbsp\;&nbsp\;&nbsp\;&nbsp\; Trade: Does your membership trade for membership dues? How does this work? Tracking?&nbsp\;</span><br />\n<br />\n<br />\n&nbsp\;
LOCATION:Mezza Luna (Venetian Room) 253 Main St\, Buzzards Bay\, MA 02532 (508) 759-4667
UID:e.2272.7
SEQUENCE:3
DTSTAMP:20260426T030148Z
URL:http://business.macce.org/events/details/mamd-quarterly-meeting-06-08-2015-06-08-2015-7
END:VEVENT

END:VCALENDAR
