BEGIN:VCALENDAR
VERSION:2.0
PRODID:-//ChamberMaster//Event Calendar 2.0//EN
METHOD:PUBLISH
X-PUBLISHED-TTL:P3D
REFRESH-INTERVAL:P3D
CALSCALE:GREGORIAN
BEGIN:VEVENT
DTSTART:20180611T150000Z
DTEND:20180611T190000Z
X-MICROSOFT-CDO-ALLDAYEVENT:FALSE
SUMMARY:MAMD Quarterly Meeting - 06/11/18
DESCRIPTION:MAMD Quarterly Meeting \n\n    (AND Bonus ChamberMaster Session - tentative)\n\n\n\nMAMD Meeting\n\nMonday\, June 11\, 2018\n\nMAMD 11am   2pm\n\nChamberMaster 2pm - 3pm\n\nBowling & Laser Tag following (on your own cost)\n\n \n\nAgenda - \n\n\n	TBA\n	Send your agenda requests to Melissa@nvcoc.com
X-ALT-DESC;FMTTYPE=text/html:<span style="font-size:16px\;"><strong>MAMD Quarterly Meeting </strong></span><br />\n&nbsp\;&nbsp\;&nbsp\;<span style="font-size:12px\;"><em>&nbsp\;(<strong>AND Bonus ChamberMaster Session - tentative)</strong></em></span><br />\n<br />\n<strong>MAMD Meeting</strong><br />\n<strong>Monday\, June 11\, 2018</strong><br />\nMAMD 11am &ndash\; 2pm<br />\nChamberMaster 2pm - 3pm<br />\n<em>Bowling &amp\; Laser Tag following (on your own cost)</em><br />\n&nbsp\;<br />\n<strong><span style="color:red\;"><span style="font-size:13.0pt\;">Agenda - </span></span></strong>\n<div style="margin-top:0in\;margin-right:0in\;margin-bottom:0in\;margin-bottom:.0001pt\;">\n<ul>\n	<li style="margin-top:0in\;margin-right:0in\;margin-bottom:0in\;margin-bottom:.0001pt\;"><strong>TBA</strong></li>\n	<li style="margin-top:0in\;margin-right:0in\;margin-bottom:0in\;margin-bottom:.0001pt\;"><strong>Send your agenda requests to Melissa@nvcoc.com</strong></li>\n</ul>\n\n<div style="margin-top:0in\;margin-right:0in\;margin-bottom:0in\;margin-bottom:.0001pt\;">&nbsp\;</div>\n\n<div style="margin-top:0in\;margin-right:0in\;margin-bottom:0in\;margin-bottom:.0001pt\;">&nbsp\;</div>\n</div>\n&nbsp\;\n\n<div style="margin-top:0in\;margin-right:0in\;margin-bottom:0in\;margin-bottom:.0001pt\;">&nbsp\;</div>\n
LOCATION:Apex Entertainment 21 Apex Drive Marlborough MA (DIRECTIONS - CLICK HERE) We're going to meet at Talladega which is straight back. there will be signage.
UID:e.2272.71
SEQUENCE:3
DTSTAMP:20260423T175618Z
URL:http://business.macce.org/events/details/mamd-quarterly-meeting-06-11-18-71
END:VEVENT

END:VCALENDAR
