BEGIN:VCALENDAR
VERSION:2.0
PRODID:-//ChamberMaster//Event Calendar 2.0//EN
METHOD:PUBLISH
X-PUBLISHED-TTL:P3D
REFRESH-INTERVAL:P3D
CALSCALE:GREGORIAN
BEGIN:VEVENT
DTSTART:20170911T150000Z
DTEND:20170911T190000Z
X-MICROSOFT-CDO-ALLDAYEVENT:FALSE
SUMMARY:MAMD Quarterly Meeting - 09/11/2017
DESCRIPTION:MAMD Quarterly Meeting \n\n    (AND Bonus ChamberMaster Session)\n\n\n\nMAMD Meeting\n\nMonday\, September 11\, 2017\n\nMAMD 11am   2pm\n\nChamberMaster 2pm - 3pm\n\n\n\n \n\nAgenda - \n\n	TBA\n\nEmail requests to add to the agenda to melissa@nvcoc.com
X-ALT-DESC;FMTTYPE=text/html:<span style="font-size:16px\;"><strong>MAMD Quarterly Meeting </strong></span><br />\n&nbsp\;&nbsp\;&nbsp\;<span style="font-size:12px\;"><em>&nbsp\;(<strong>AND Bonus ChamberMaster Session)</strong></em></span><br />\n<br />\n<strong>MAMD Meeting</strong><br />\n<strong>Monday\, September 11\, 2017</strong><br />\nMAMD 11am &ndash\; 2pm<br />\nChamberMaster 2pm - 3pm<br />\n<br />\n&nbsp\;<br />\n<span style="color:#000000\;"><strong><span style="font-size:13.0pt\;">Agenda -&nbsp\;</span></strong></span>\n<ul>\n	<li><span style="color:#000000\;"><strong><span style="font-size:13.0pt\;">TBA</span></strong></span></li>\n</ul>\n<span style="font-size:14px\;"><em><span style="color:#0000FF\;"><strong>Email requests to add to the agenda to melissa@nvcoc.com</strong></span></em></span><br />\n&nbsp\;\n<div style="margin-top:0in\;margin-right:0in\;margin-bottom:0in\;margin-bottom:.0001pt\;">&nbsp\;</div>\n
LOCATION:Nashoba Valley Chamber of Commerce 2 Shaker Road\, Suite B200 Shirley MA 01464 Directions - http://www.nvcoc.com/directions
UID:e.2272.50
SEQUENCE:3
DTSTAMP:20260424T091844Z
URL:http://business.macce.org/events/details/mamd-quarterly-meeting-09-11-2017-50
END:VEVENT

END:VCALENDAR
