BEGIN:VCALENDAR
VERSION:2.0
PRODID:-//ChamberMaster//Event Calendar 2.0//EN
METHOD:PUBLISH
X-PUBLISHED-TTL:P3D
REFRESH-INTERVAL:P3D
CALSCALE:GREGORIAN
BEGIN:VEVENT
DTSTART;VALUE=DATE:20150914
DTEND;VALUE=DATE:20150915
TRANSP:TRANSPARENT
X-MICROSOFT-CDO-ALLDAYEVENT:TRUE
SUMMARY:MAMD Quarterly Meeting - 09/14/2015
DESCRIPTION:MAMD Quarterly Meeting\n\n\n\nMonday\,  September 14\, 2015\n\n11am - 2pm\n\nAgenda: \n\nMatt Ward\, President/CEO of inConcert Web Solutions\, Inc. will join us to discuss the latest trends in mobile apps for Chambers.\n\n\n	Affinity programs\n	Mobile Technology\n	CRM to award & track member activity
X-ALT-DESC;FMTTYPE=text/html:<p>MAMD Quarterly Meeting<br />\n<br />\nMonday\, &nbsp\;<span style="line-height: 16.6399993896484px\;">September 14\, 2015</span><br />\n11am - 2pm<br />\n<span style="color:#000000\;">Agenda: </span></p>\n\n<p><span style="font-size:12px\;"><span style="font-family:verdana\;">Matt Ward\, President/CEO of inConcert Web Solutions\, Inc. will join us to discuss the latest trends in mobile apps for Chambers.</span></span></p>\n\n<ul>\n	<li>Affinity programs</li>\n	<li>Mobile Technology</li>\n	<li>CRM to award &amp\; track member activity&nbsp\;</li>\n</ul>\n
LOCATION:North Central Chamber of Commerce 860 South Street Fitchburg MA 01420
UID:e.2272.11
SEQUENCE:3
DTSTAMP:20260425T224356Z
URL:http://business.macce.org/events/details/mamd-quarterly-meeting-09-14-2015-09-14-2015-11
END:VEVENT

END:VCALENDAR
