BEGIN:VCALENDAR
VERSION:2.0
PRODID:-//ChamberMaster//Event Calendar 2.0//EN
METHOD:PUBLISH
X-PUBLISHED-TTL:P3D
REFRESH-INTERVAL:P3D
CALSCALE:GREGORIAN
BEGIN:VEVENT
DTSTART;VALUE=DATE:20151207
DTEND;VALUE=DATE:20151208
TRANSP:TRANSPARENT
X-MICROSOFT-CDO-ALLDAYEVENT:TRUE
SUMMARY:MAMD Quarterly Meeting - 12/07/2015
DESCRIPTION:MAMD Quarterly Meeting\n\nMonday\, December 7\, 2015\n\n11am - 2pm\n\nLocation - Marlborough Regional Chamber of Commerce\n\n\n\nAgenda -\n\n \n\n	         Recap of 2016 MAMD Strategy Discussion: Who we are\, what we do\, who we do it for\, how we do it (format of meetings)\, where we meet (rotate around the state)\n	         Member Benefits: Encouraging innovation and ingenuity in our communities\n	\n		   Guests: WyngSpan\, AppInAll and Positive Effects\n	\n	\n	         Trades and Barters with Members Making it a Win/Win \n	         Collaborations with complimentary organizations
X-ALT-DESC;FMTTYPE=text/html:MAMD Quarterly Meeting<br />\nMonday\, December 7\, 2015<br />\n11am - 2pm<br />\nLocation - Marlborough Regional Chamber of Commerce<br />\n<br />\nAgenda -<br />\n&nbsp\;\n<ul>\n	<li>&nbsp\;&nbsp\;&nbsp\;&nbsp\;&nbsp\;&nbsp\;&nbsp\;&nbsp\; <span style="color:#1F497D\;">Recap of 2016 MAMD Strategy Discussion: Who we are\, what we do\, who we do it for\, how we do it (format of meetings)\, where we meet (rotate around the state)</span></li>\n	<li>&nbsp\;&nbsp\;&nbsp\;&nbsp\;&nbsp\;&nbsp\;&nbsp\;&nbsp\; <span style="color:#1F497D\;">Member Benefits: Encouraging innovation and ingenuity in our communities</span>\n	<ul style="list-style-type:circle\;">\n		<li>&nbsp\;&nbsp\; <span style="color:#1F497D\;">Guests: WyngSpan\, AppInAll and Positive Effects</span></li>\n	</ul>\n	</li>\n	<li>&nbsp\;&nbsp\;&nbsp\;&nbsp\;&nbsp\;&nbsp\;&nbsp\;&nbsp\; <span style="color:#1F497D\;">Trades and Barters with Members Making it a Win/Win </span></li>\n	<li>&nbsp\;&nbsp\;&nbsp\;&nbsp\;&nbsp\;&nbsp\;&nbsp\;&nbsp\; <span style="color:#1F497D\;">Collaborations with complimentary organizations</span></li>\n</ul>\n<br />\n<br />\n<br />\n&nbsp\;
LOCATION:Marlborough Regional Chamber of Commerce 11 Florence Street Marlborough MA 01752
UID:e.2272.19
SEQUENCE:3
DTSTAMP:20260425T181325Z
URL:http://business.macce.org/events/details/mamd-quarterly-meeting-12-07-2015-12-07-2015-19
END:VEVENT

END:VCALENDAR
