BEGIN:VCALENDAR
VERSION:2.0
PRODID:-//ChamberMaster//Event Calendar 2.0//EN
METHOD:PUBLISH
X-PUBLISHED-TTL:P3D
REFRESH-INTERVAL:P3D
CALSCALE:GREGORIAN
BEGIN:VEVENT
DTSTART:20171211T160000Z
DTEND:20171211T200000Z
X-MICROSOFT-CDO-ALLDAYEVENT:FALSE
SUMMARY:MAMD Quarterly Meeting - 12/11/2017
DESCRIPTION:MAMD Quarterly Meeting \n\n    (AND Bonus ChamberMaster Session - tentative)\n\n\n\nMAMD Meeting\n\nMonday\, December 11\, 2017\n\nMAMD 11am   2pm\n\nChamberMaster 2pm - 3pm\n\n\n\n \n\nAgenda - \n\n	5 Minute Recap from each chamber   how was your 2017   what are you doing differently in 2018\n	Marketing & Sponsorship\n	\n		Do you push out all your marketing and sponsorship opportunities at one time?\n		What do you include in your marketing & sponsorship collateral? Detailed offerings? Pricing? Events? Programming?\n	\n	\n	How do other Chambers market themselves to prospective members? \n	\n		Ad campaigns\n		Direct mail\n		emails\n	\n	\n	Membership Directory Categories\n	\n		What categories do others have for their Membership Directory?  Do you ever have companies that can't find an appropriate spot for their company?  What's the process to add a category?\n	\n	\n\n \n\n \n\n \n\nPast discussions:\n\n\n	June 2016   Engaging members AND millennial\n	September 2016   Sharing ideas on $$ making programs/events\, roles for volunteers\, womens series discussion\, and partnering with other chambers\n	December 2016   Drop rate after "year one"\, strategic plans\, sponsorships\, membership sales\n	March 2017   Dues for members with more than 1 business\, non dues revenue sources\, member referral programs\, member orientations\, social media\n	June 2017  - Small Business Saturday\, Dues (calculations/base/payment cycle\, raising)\, Membership Orientation & Welcome\, Retention Plans\, Event Marketing\, Prospecting for new members\n	September 2017   Telling our chamber story\, chamber tools to share\, getting members involved\, interns\, serving on other boards\, event sponsorships\, annual meetings\n\n\n\n	Email requests to add to the agenda \n	Send requests to Melissa@nvcoc.com
X-ALT-DESC;FMTTYPE=text/html:<span style="font-size:16px\;"><strong>MAMD Quarterly Meeting </strong></span><br />\n&nbsp\;&nbsp\;&nbsp\;<span style="font-size:12px\;"><em>&nbsp\;(<strong>AND Bonus ChamberMaster Session - tentative)</strong></em></span><br />\n<br />\n<strong>MAMD Meeting</strong><br />\n<strong>Monday\, December 11\, 2017</strong><br />\nMAMD 11am &ndash\; 2pm<br />\nChamberMaster 2pm - 3pm<br />\n<br />\n&nbsp\;<br />\n<strong><span style="color:red\;"><span style="font-size:13.0pt\;">Agenda - </span></span></strong>\n<ul>\n	<li style="margin-top:0in\;margin-right:0in\;margin-bottom:0in\;margin-bottom:.0001pt\;">5 Minute Recap from each chamber &ndash\; how was your 2017 &ndash\; what are you doing differently in 2018</li>\n	<li style="margin-top:0in\;margin-right:0in\;margin-bottom:0in\;margin-bottom:.0001pt\;">Marketing &amp\; Sponsorship\n	<ul style="list-style-type:circle\;">\n		<li style="margin-top:0in\;margin-right:0in\;margin-bottom:0in\;margin-bottom:.0001pt\;">Do you push out all your marketing and sponsorship opportunities at one time?</li>\n		<li style="margin-top:0in\;margin-right:0in\;margin-bottom:0in\;margin-bottom:.0001pt\;">What do you include in your marketing &amp\; sponsorship collateral? Detailed offerings? Pricing? Events? Programming?</li>\n	</ul>\n	</li>\n	<li style="margin-top:0in\;margin-right:0in\;margin-bottom:0in\;margin-bottom:.0001pt\;">How do other Chambers market themselves to prospective members?&nbsp\;\n	<ul style="list-style-type:circle\;">\n		<li style="margin-top:0in\;margin-right:0in\;margin-bottom:0in\;margin-bottom:.0001pt\;">Ad campaigns</li>\n		<li style="margin-top:0in\;margin-right:0in\;margin-bottom:0in\;margin-bottom:.0001pt\;">Direct mail</li>\n		<li style="margin-top:0in\;margin-right:0in\;margin-bottom:0in\;margin-bottom:.0001pt\;">emails</li>\n	</ul>\n	</li>\n	<li style="margin-top:0in\;margin-right:0in\;margin-bottom:0in\;margin-bottom:.0001pt\;">Membership Directory Categories\n	<ul style="list-style-type:circle\;">\n		<li style="margin-top:0in\;margin-right:0in\;margin-bottom:0in\;margin-bottom:.0001pt\;">What categories do others have for their Membership Directory?&nbsp\; Do you ever have companies that can&rsquo\;t find an appropriate spot for their company?&nbsp\; What&rsquo\;s the process to add a category?</li>\n	</ul>\n	</li>\n</ul>\n&nbsp\;<br />\n&nbsp\;<br />\n&nbsp\;<br />\n<strong><span style="font-size:13.0pt\;">Past discussions:</span></strong>\n\n<ul>\n	<li style="margin-bottom:0in\;margin-bottom:.0001pt\;"><strong>June 2016</strong> &ndash\; Engaging members AND millennial</li>\n	<li style="margin-bottom:0in\;margin-bottom:.0001pt\;"><strong>September 2016</strong> &ndash\; Sharing ideas on $$ making programs/events\, roles for volunteers\, womens series discussion\, and partnering with other chambers</li>\n	<li style="margin-bottom:0in\;margin-bottom:.0001pt\;"><strong>December 2016</strong> &ndash\; Drop rate after &ldquo\;year one&rdquo\;\, strategic plans\, sponsorships\, membership sales</li>\n	<li style="margin-bottom:0in\;margin-bottom:.0001pt\;"><strong>March 2017</strong> &ndash\; Dues for members with more than 1 business\, non dues revenue sources\, member referral programs\, member orientations\, social media</li>\n	<li style="margin-bottom:0in\;margin-bottom:.0001pt\;"><strong>June 2017&nbsp\; </strong>- Small Business Saturday\, Dues (calculations/base/payment cycle\, raising)\, Membership Orientation &amp\; Welcome\, Retention Plans\, Event Marketing\, Prospecting for new members</li>\n	<li style="margin-bottom:0in\;margin-bottom:.0001pt\;"><strong>September 2017 </strong>&ndash\; Telling our chamber story\, chamber tools to share\, getting members involved\, interns\, serving on other boards\, event sponsorships\, annual meetings</li>\n</ul>\n\n<ul>\n	<li><span style="color:#000000\;"><strong><span style="font-size:13.0pt\;">Email requests to add to the agenda&nbsp\;</span></strong></span></li>\n	<li><font color="#000000"><span style="font-size: 17.3333px\;"><b>Send requests to Melissa@nvcoc.com&nbsp\;</b></span></font></li>\n</ul>\n&nbsp\;\n\n<div style="margin-top:0in\;margin-right:0in\;margin-bottom:0in\;margin-bottom:.0001pt\;">&nbsp\;</div>\n
LOCATION:Neponset Valley Chamber of Commerce 520 Providence Highway (Route 1 North) Suite 4 Norwood\, MA 02062
UID:e.2272.53
SEQUENCE:3
DTSTAMP:20260424T042105Z
URL:http://business.macce.org/events/details/mamd-quarterly-meeting-12-11-2017-53
END:VEVENT

END:VCALENDAR
