BEGIN:VCALENDAR
VERSION:2.0
PRODID:-//ChamberMaster//Event Calendar 2.0//EN
METHOD:PUBLISH
X-PUBLISHED-TTL:P3D
REFRESH-INTERVAL:P3D
CALSCALE:GREGORIAN
BEGIN:VEVENT
DTSTART;VALUE=DATE:20151116
DTEND;VALUE=DATE:20151118
TRANSP:TRANSPARENT
X-MICROSOFT-CDO-ALLDAYEVENT:TRUE
SUMMARY:NEACCE 2015 Annual Meeting
DESCRIPTION:NEACCE 2015 Annual Meeting\n\n\n\nMonday\, November 16\, 2015   Tuesday\, November 17\, 2015\n\n\n\nFull Conference $150/pp\n\nNon-Members $225/pp\n\n\n\nGuestroom Information - Click Here\n\n\n\nPreliminary Agenda (as of 6/24/15) - Click Here to view agenda
X-ALT-DESC;FMTTYPE=text/html:<br />\n<strong>NEACCE 2015 Annual Meeting<br />\n<br />\nMonday\, November 16\, 2015 &ndash\; Tuesday\, November 17\, 2015</strong><br />\n<br />\nFull Conference&nbsp\;$150/pp<br />\nNon-Members&nbsp\;$225/pp<br />\n<br />\nGuestroom Information -&nbsp\;<a href="http://cloud.chambermaster.com/userfiles/UserFiles/chambers/2272/File/NEACCE_2015Conference_GuestroomsInformation.pdf">Click Here</a><br />\n<br />\nPreliminary Agenda (as of 6/24/15) - <a href="http://cloud.chambermaster.com/userfiles/UserFiles/chambers/2272/File/2015conferenceeflyer.pdf">Click Here to view agenda</a><br />\n<br />\n<br />\n&nbsp\;
LOCATION:Mill Falls At the Lake Church Landing Meredith\, NH
UID:e.2272.6
SEQUENCE:3
DTSTAMP:20260425T194033Z
URL:http://business.macce.org/events/details/neacce-2015-annual-meeting-11-16-2015-6
END:VEVENT

END:VCALENDAR
