BEGIN:VCALENDAR
VERSION:2.0
PRODID:-//ChamberMaster//Event Calendar 2.0//EN
METHOD:PUBLISH
X-PUBLISHED-TTL:P3D
REFRESH-INTERVAL:P3D
CALSCALE:GREGORIAN
BEGIN:VEVENT
DTSTART;VALUE=DATE:20150703
DTEND;VALUE=DATE:20150704
TRANSP:TRANSPARENT
X-MICROSOFT-CDO-ALLDAYEVENT:TRUE
SUMMARY:NO MACCE Council Meeting
DESCRIPTION:ENJOY THE SUMMER!
X-ALT-DESC;FMTTYPE=text/html:ENJOY THE SUMMER!
LOCATION:
UID:e.2272.12
SEQUENCE:3
DTSTAMP:20260426T013411Z
URL:http://business.macce.org/events/details/no-macce-council-meeting-07-03-2015-12
END:VEVENT

END:VCALENDAR
