BEGIN:VCALENDAR
VERSION:2.0
PRODID:-//ChamberMaster//Event Calendar 2.0//EN
METHOD:PUBLISH
X-PUBLISHED-TTL:P3D
REFRESH-INTERVAL:P3D
CALSCALE:GREGORIAN
BEGIN:VEVENT
DTSTART:20171019T180000Z
DTEND:20171019T183000Z
X-MICROSOFT-CDO-ALLDAYEVENT:FALSE
SUMMARY:Third Thursday Think Tank at 2
DESCRIPTION:Third Thursday Think Tank (at 2pm)\n\n\n\nJoin us for 1/2 hour starting promptly at 2pm via video conference.  Submit (in advance) your "issue" you would like to share with the group.  One issue will be discussed with attendees with the goal to provide some solutions.\n\nYou will need to create an account at www.zoom.us and pre-register so that we can give you the video conference code.
X-ALT-DESC;FMTTYPE=text/html:Third Thursday Think Tank (at 2pm)<br />\n<br />\nJoin us for 1/2 hour starting promptly at 2pm via video conference. &nbsp\;Submit (in advance) your &quot\;issue&quot\; you would like to share with the group. &nbsp\;One issue will be discussed with attendees with the goal to provide some solutions.<br />\nYou will need to create an account at www.zoom.us and pre-register so that we can give you the video conference code.&nbsp\;<br />\n&nbsp\;
LOCATION:Your desk!
UID:e.2272.54
SEQUENCE:3
DTSTAMP:20260424T074202Z
URL:http://business.macce.org/events/details/third-thursday-think-tank-at-2-54
END:VEVENT

END:VCALENDAR
