BEGIN:VCALENDAR
VERSION:2.0
PRODID:-//ChamberMaster//Event Calendar 2.0//EN
METHOD:PUBLISH
X-PUBLISHED-TTL:P3D
REFRESH-INTERVAL:P3D
CALSCALE:GREGORIAN
BEGIN:VEVENT
DTSTART:20161109T160000Z
DTEND:20161109T170000Z
X-MICROSOFT-CDO-ALLDAYEVENT:FALSE
SUMMARY:Webinar #4 - Nurturing Your Online Tribe for Retention and Additional Revenue
DESCRIPTION:Webinar #4 - Nurturing Your Online Tribe for Retention and Additional Revenue
X-ALT-DESC;FMTTYPE=text/html:<span style="font-family:verdana\,sans-serif\;"><span style="font-size:10.0pt\;">Webinar #4 - Nurturing Your Online Tribe for Retention and Additional Revenue</span></span>
LOCATION:Webinar
UID:e.2272.31
SEQUENCE:3
DTSTAMP:20260425T012439Z
URL:http://business.macce.org/events/details/webinar-4-nurturing-your-online-tribe-for-retention-and-additional-revenue-10-19-2016-31
END:VEVENT

END:VCALENDAR
