BEGIN:VCALENDAR
VERSION:2.0
PRODID:-//ChamberMaster//Event Calendar 2.0//EN
METHOD:PUBLISH
X-PUBLISHED-TTL:P3D
REFRESH-INTERVAL:P3D
CALSCALE:GREGORIAN
BEGIN:VEVENT
DTSTART:20200319T140000Z
DTEND:20200319T150000Z
X-MICROSOFT-CDO-ALLDAYEVENT:FALSE
SUMMARY:Zoom Video Conference
DESCRIPTION:Topic: MACCE Chamber Exec Chat\n\nTime: Mar 19\, 2020 10:00 AM Eastern Time (US and Canada)\n\n\n\nJoin Zoom Meeting\n\nhttps://zoom.us/j/599555281\n\n\n\nMeeting ID: 599 555 281\n\n\n\nOne tap mobile\n\n+16465588656\,\,599555281# US (New York)\n\n+13126266799\,\,599555281# US (Chicago)\n\n\n\nDial by your location\n\n        +1 646 558 8656 US (New York)\n\n        +1 312 626 6799 US (Chicago)\n\n        +1 669 900 9128 US (San Jose)\n\n        +1 253 215 8782 US\n\n        +1 301 715 8592 US\n\n        +1 346 248 7799 US (Houston)\n\nMeeting ID: 599 555 281\n\nFind your local number: https://zoom.us/u/abub05wDP
X-ALT-DESC;FMTTYPE=text/html:&nbsp\;&nbsp\;&nbsp\;&nbsp\;<br />\nTopic: MACCE Chamber Exec Chat<br />\nTime: Mar 19\, 2020 10:00 AM Eastern Time (US and Canada)<br />\n<br />\nJoin Zoom Meeting<br />\nhttps://zoom.us/j/599555281<br />\n<br />\nMeeting ID: 599 555 281<br />\n<br />\nOne tap mobile<br />\n+16465588656\,\,599555281# US (New York)<br />\n+13126266799\,\,599555281# US (Chicago)<br />\n<br />\nDial by your location<br />\n&nbsp\; &nbsp\; &nbsp\; &nbsp\; +1 646 558 8656 US (New York)<br />\n&nbsp\; &nbsp\; &nbsp\; &nbsp\; +1 312 626 6799 US (Chicago)<br />\n&nbsp\; &nbsp\; &nbsp\; &nbsp\; +1 669 900 9128 US (San Jose)<br />\n&nbsp\; &nbsp\; &nbsp\; &nbsp\; +1 253 215 8782 US<br />\n&nbsp\; &nbsp\; &nbsp\; &nbsp\; +1 301 715 8592 US<br />\n&nbsp\; &nbsp\; &nbsp\; &nbsp\; +1 346 248 7799 US (Houston)<br />\nMeeting ID: 599 555 281<br />\nFind your local number: https://zoom.us/u/abub05wDP
LOCATION:
UID:e.2272.1100
SEQUENCE:3
DTSTAMP:20260422T053705Z
URL:http://business.macce.org/events/details/zoom-video-conference-03-19-2020-1100
END:VEVENT

END:VCALENDAR
