BEGIN:VCALENDAR
VERSION:2.0
PRODID:-//ChamberMaster//Event Calendar 2.0//EN
METHOD:PUBLISH
X-PUBLISHED-TTL:P3D
REFRESH-INTERVAL:P3D
CALSCALE:GREGORIAN
BEGIN:VEVENT
DTSTART:20200325T130000Z
DTEND:20200325T140000Z
X-MICROSOFT-CDO-ALLDAYEVENT:FALSE
SUMMARY:Zoom Video Conference
DESCRIPTION:Apologies for the short notice  \n\nJoin us tomorrow morning (Wednesday) at 9am for a Video Conference.  No agenda necessarily   Just an opportunity to stay connected with each other during this stressful time.  No voyeurs allowed  \n\n \n\nTime: Mar 25\, 2020 09:00 AM Eastern Time (US and Canada)\n\n \n\nJoin Zoom Meeting\n\nhttps://zoom.us/j/903912490\n\n \n\nMeeting ID: 903 912 490\n\n \n\nOne tap mobile\n\n+13126266799\,\,903912490# US (Chicago)\n\n+16465588656\,\,903912490# US (New York)
X-ALT-DESC;FMTTYPE=text/html:<br />\n<br />\nApologies for the short notice &ndash\;<br />\nJoin us tomorrow morning (Wednesday) at 9am for a Video Conference.&nbsp\; No agenda necessarily &ndash\; Just an opportunity to stay connected with each other during this stressful time.&nbsp\; No voyeurs allowed <span style="font-family:segoe ui emoji\,sans-serif\;">&#128522\;</span><br />\n&nbsp\;<br />\nTime: Mar 25\, 2020 09:00 AM Eastern Time (US and Canada)<br />\n&nbsp\;<br />\nJoin Zoom Meeting<br />\nhttps://zoom.us/j/903912490<br />\n&nbsp\;<br />\nMeeting ID: 903 912 490<br />\n&nbsp\;<br />\nOne tap mobile<br />\n+13126266799\,\,903912490# US (Chicago)<br />\n+16465588656\,\,903912490# US (New York)<br />\n&nbsp\;<br />\n&nbsp\;<br />\n&nbsp\;
LOCATION:
UID:e.2272.1102
SEQUENCE:3
DTSTAMP:20260422T053548Z
URL:http://business.macce.org/events/details/zoom-video-conference-1102
END:VEVENT

END:VCALENDAR
